BEGIN:VCALENDAR
PRODID:-//eluceo/ical//2.0/EN
VERSION:2.0
CALSCALE:GREGORIAN
BEGIN:VEVENT
UID:7395eb448b332fc5d2e9090003bcca18
DTSTAMP:20260419T120742Z
SUMMARY:Carrefour Collaborative Music Project presents Music of the Jewish 
 Diaspora
DESCRIPTION:North Louisiana Jewish Federation\nCalendar\nhttps://jewishnla.
 org/calendar/carrefour-collaborative-music-project\n\nMusic of the Jewish 
 Diaspora from Four Centuries presented by the Carrefour Collaborative Mus
 ic Project and featuring the Northwestern University Choral Artists \n\nL
 ocation: Church of the Holy Cross\, 875 Cotton Street\n\nTaking it’s nam
 e from the French word for “crossroads”\, Carrefour Collaborative Musi
 c Project is an arts organization based in Shreveport\, Louisiana.\n\nFrom
  the Italian Renaissance to the French Baroque to the 20th Century\, this 
 music explores how one group of peopl...
DTSTART;TZID=America/Chicago:20250309T150000
DTEND;TZID=America/Chicago:20250309T160000
END:VEVENT
END:VCALENDAR
