BEGIN:VCALENDAR
PRODID:-//eluceo/ical//2.0/EN
VERSION:2.0
CALSCALE:GREGORIAN
BEGIN:VEVENT
UID:241372ff526a40b627aaeccfeef3881f
DTSTAMP:20260420T082336Z
SUMMARY:Chinese Food and A Movie!
DESCRIPTION:North Louisiana Jewish Federation\nCalendar\nhttps://jewishnla.
 org/calendar/chinese-food-and-a-movie\n\nLocation: Robinson Film Center\n\
 nRegistration required at https://jewishnla.regfox.com/movie-and-chinese\
 n\nAbout "The Band's Visit:"\n\nThis heartwarming and poignant winner of t
 he Cannes Film Festival Un Certain Regard prize and Israel's official entr
 y for the Academy Award for Best Foreign Language Film is the mesmerizing 
 and witty story of strangers in a strange land.\n\nA fading Egyptian polic
 e band arrives in Israel to play at the Arab Cultural Center. When they ta
 ke the wrong bus\, th...
DTSTART;TZID=America/Chicago:20231223T170000
DTEND;TZID=America/Chicago:20231223T200000
END:VEVENT
END:VCALENDAR
