BEGIN:VCALENDAR
PRODID:-//eluceo/ical//2.0/EN
VERSION:2.0
CALSCALE:GREGORIAN
BEGIN:VEVENT
UID:024c56ef3dcc86b511ec68f166fb02d5
DTSTAMP:20260419T152020Z
SUMMARY:Chinese Food and a Movie!
DESCRIPTION:North Louisiana Jewish Federation\nCalendar\nhttps://jewishnla.
 org/calendar/chinese-food-and-movie\n\nEnjoy Chinese food and the film Bet
 ween the Temples for this late December tradition!\n\nView the trailer for
  Between the Temples here. \n\nCost is $18/person. Reserve your place her
 e today! 
DTSTART;TZID=America/Chicago:20241222T170000
DTEND;TZID=America/Chicago:20241222T200000
END:VEVENT
END:VCALENDAR
