BEGIN:VCALENDAR
PRODID:-//eluceo/ical//2.0/EN
VERSION:2.0
CALSCALE:GREGORIAN
BEGIN:VEVENT
UID:ff6759ce4b1e5e8edb4b5e0116eedab4
DTSTAMP:20260425T173709Z
SUMMARY:Shreveport Community Hanukah Party
DESCRIPTION:North Louisiana Jewish Federation\nCalendar\nhttps://jewishnla.
 org/calendar/community-hanukah-party-449753\n\nCandle Lighting and Dinner 
 will begin at 5:00 p.m.\, followed by Batsheva in concert.\n\nDinner will 
 include latkes and a vegetarian meal by LA PLANT FOOD.\n\nSinger\, songwri
 ter\, musician and comedy writer\, Batsheva sings in Ladino\, Yiddish\, He
 brew\, and English. She is an award-winning songwriter and has performed i
 n Israel\, Canada\, Australia\, and the United States.\n\nBased in Nashvil
 le and born in Canada\, Batsheva connects with all audiences and brings la
 ughter and music together in engaging...
DTSTART;TZID=America/Chicago:20231210T170000
DTEND;TZID=America/Chicago:20231210T190000
END:VEVENT
END:VCALENDAR
