BEGIN:VCALENDAR
PRODID:-//eluceo/ical//2.0/EN
VERSION:2.0
CALSCALE:GREGORIAN
BEGIN:VEVENT
UID:c6c2d66298bf1661192072f17477ad0e
DTSTAMP:20260420T003333Z
SUMMARY:"Four Winters" film
DESCRIPTION:North Louisiana Jewish Federation\nCalendar\nhttps://jewishnla.
 org/calendar/four-winters-film\n\nThe Louisiana premiere of the documentar
 y Four Winters will be on Sunday\, April 28 at 2:30 p.m. at the Robinson F
 ilm Center. Director and Producer Julia Mintz will be in attendance to int
 roduce the film\, and for a Question and Answer session afterwards. The fi
 lm focuses on Jewish individuals who fought back against the Nazis during 
 World War II. \n\n“All I owned was my camera\, a leopard coat\, and a g
 renade in case of capture...the pillow was the rifle\, the walls were the 
 trees and the sky ...
DTSTART;TZID=America/Chicago:20240428T143000
DTEND;TZID=America/Chicago:20240428T173000
END:VEVENT
END:VCALENDAR
