BEGIN:VCALENDAR
PRODID:-//eluceo/ical//2.0/EN
VERSION:2.0
CALSCALE:GREGORIAN
BEGIN:VEVENT
UID:df6bae75263e9209af1095a3fa551c4c
DTSTAMP:20260423T131018Z
SUMMARY:Viewing of Historic Illustrated Esther Scroll at the Noel Collectio
 n
DESCRIPTION:North Louisiana Jewish Federation\nCalendar\nhttps://jewishnla.
 org/calendar/historic-esther-scroll\n\nThis event is a partnership between
  the North Louisiana Jewish Federation and the Noel Collection at the LSUS
  Library.\n\nJoin us for a reception alongside a viewing of an illustrated
  Scroll of Esther that is housed in the Noel Collection. We will hear from
  Dr. Alexander Mikaberidze (Ruth Herring Noel Endowed Chair for the Curato
 rship of the James Smith Noel Collection) and Martha Lawler (Director of t
 he James Smith Noel Collection)\, about the scroll and other items of Jewi
 sh interest. \n\nC...
DTSTART;TZID=America/Chicago:20250306T180000
DTEND;TZID=America/Chicago:20250306T193000
END:VEVENT
END:VCALENDAR
