BEGIN:VCALENDAR
PRODID:-//eluceo/ical//2.0/EN
VERSION:2.0
CALSCALE:GREGORIAN
BEGIN:VEVENT
UID:73a817a79f86f0a1417f6cf2db540437
DTSTAMP:20260420T210633Z
SUMMARY:Holocaust Remembrance Service
DESCRIPTION:North Louisiana Jewish Federation\nCalendar\nhttps://jewishnla.
 org/calendar/holocaust-remembrance-service\n\nTo honor the victims of one 
 of humanity's worst moments\, our community remembers the Holocaust with a
 n annual ecumenical service. The 41st Annual Northwest Louisiana Holocaust
  Remembrance Service will be 3:00 p.m. Sunday\, May 5 in Louisiana State U
 niversity Shreveport’s University Center. The Chair of the event is Dr. 
 Kenna Franklin\, Assistant Provost of Diversity\, Inclusion & Community En
 gagement and Associate Professor of Professional Practice.\n\nThe guest sp
 eaker will be Sonia Levitin\, ...
DTSTART;TZID=America/Chicago:20240505T150000
DTEND;TZID=America/Chicago:20240505T170000
END:VEVENT
END:VCALENDAR
