BEGIN:VCALENDAR
PRODID:-//eluceo/ical//2.0/EN
VERSION:2.0
CALSCALE:GREGORIAN
BEGIN:VEVENT
UID:12a430c5081200fe5bce9040c244f836
DTSTAMP:20260419T121518Z
SUMMARY:Holocaust Remembrance Service 2025
DESCRIPTION:North Louisiana Jewish Federation\nCalendar\nhttps://jewishnla.
 org/calendar/holocaust-remembrance-service-2025\n\nThis year's event is th
 e 42nd Annual Holocaust Remembrance Service in Northwest Louisiana. Regist
 ration is available at this page. \n\nLocation: St. Paul’s Episcopal C
 hurch\, 275 Southfield Road\, Shreveport\n\nChair: The Rev. Michael Cannon
 \n\nSpeaker: Kathy Kacer\, award winning author and child of Holocaust sur
 vivors\n\nStudents and teachers who participated in this year's Holocasut 
 Remembrance Literary and Arts Projecy will be recognized. \n\nRegister he
 re.\n\nFor more information\, visi...
DTSTART;TZID=America/Chicago:20250427T150000
DTEND;TZID=America/Chicago:20250427T170000
END:VEVENT
END:VCALENDAR
