BEGIN:VCALENDAR
PRODID:-//eluceo/ical//2.0/EN
VERSION:2.0
CALSCALE:GREGORIAN
BEGIN:VEVENT
UID:ab27b34f414ed8b17f1a8cd2a5d6f723
DTSTAMP:20260420T145913Z
SUMMARY:Israel in Focus with Dani Wassner
DESCRIPTION:North Louisiana Jewish Federation\nCalendar\nhttps://jewishnla.
 org/calendar/israel-in-focus-with-dani-wassner\n\nIsrael in Focus is a spe
 akers tour with partners Jewish Federations of North America\, American J
 ewish Committee (AJC)\, Conference of Presidents\, and ADL.\n\nNorth Louis
 iana will host speaker Dani Wassner: After an unprecedented two years\, an
  Israeli government insider's look at what lies ahead for the Jewish state
 .\n\nDani is the Managing Director of Government and Media Relations for
  The Jewish Federations of North America's Global Operations: Israel and
  Overseas\n\nSince 2008\, Dani has ...
DTSTART;TZID=America/Chicago:20251210T000000
DTEND;TZID=America/Chicago:20251210T235959
END:VEVENT
END:VCALENDAR
