BEGIN:VCALENDAR
PRODID:-//eluceo/ical//2.0/EN
VERSION:2.0
CALSCALE:GREGORIAN
BEGIN:VEVENT
UID:18783eceaad72f607d0a84fbe670a859
DTSTAMP:20260421T151720Z
SUMMARY:JEWISH JOURNEYS 2025 with keynote speaker Avraham Infeld
DESCRIPTION:North Louisiana Jewish Federation\nCalendar\nhttps://jewishnla.
 org/calendar/jewish-journeys-2025\n\nJEWISH JOURNEYS 2025 with keynote sp
 eaker Avraham Infeld\nSunday\, February 23rd\, 2025\n5:15 pm Doors Open | 
 5:30 Reception | 6:30 Program\nReception includes hors d'oeuvres and drink
 s. \n\n$18 per ticket\, Register Here.\n\nLouisiana State University Sh
 reveport\, Ballroom\n\nAvraham Infeld has served as International Presiden
 t and CEO of Hillel International\, Director of Planning Process of Taglit
  Birthright Israel\, Director of Hartman Institute\, and was the first eve
 r community shaliach\, I...
DTSTART;TZID=America/Chicago:20250223T173000
DTEND;TZID=America/Chicago:20250223T193000
END:VEVENT
END:VCALENDAR
