BEGIN:VCALENDAR
PRODID:-//eluceo/ical//2.0/EN
VERSION:2.0
CALSCALE:GREGORIAN
BEGIN:VEVENT
UID:59b31799d9d9d8148df718d995ce381b
DTSTAMP:20260422T183540Z
SUMMARY:Lag BaOmer
DESCRIPTION:North Louisiana Jewish Federation\nCalendar\nhttps://jewishnla.
 org/calendar/lag-baomer2026-489029\n\n
DTSTART;TZID=America/Chicago:20260505T000000
DTEND;TZID=America/Chicago:20260505T235959
END:VEVENT
END:VCALENDAR
