BEGIN:VCALENDAR
PRODID:-//eluceo/ical//2.0/EN
VERSION:2.0
CALSCALE:GREGORIAN
BEGIN:VEVENT
UID:b8295582e4b751c78b23ad7a59fc83f9
DTSTAMP:20260420T023901Z
SUMMARY:NLJF Board Meeting
DESCRIPTION:North Louisiana Jewish Federation\nCalendar\nhttps://jewishnla.
 org/calendar/nljf-board-meeting\n\nFrom the by-laws: Regular meetings of t
 he Board of Director shall be held at least bi-monthly for a total of six.
DTSTART;TZID=America/Chicago:20231101T180000
DTEND;TZID=America/Chicago:20231101T200000
END:VEVENT
END:VCALENDAR
