BEGIN:VCALENDAR
PRODID:-//eluceo/ical//2.0/EN
VERSION:2.0
CALSCALE:GREGORIAN
BEGIN:VEVENT
UID:449fb13d5b4d43602c53751cff2301d9
DTSTAMP:20260419T120700Z
SUMMARY:October 7 Commemoration
DESCRIPTION:North Louisiana Jewish Federation\nCalendar\nhttps://jewishnla.
 org/calendar/october-7-commemoration\n\nOn October 7th\, 2023\, the Jewish
  community suffered a profound loss. As we mark one year since the horrifi
 c attacks\, we invite you to join us for a special event to commemorate th
 e lives lost\, pray for the hostages' safe return\, and honor the strength
  and resilience of the Israeli people.\n\nPlease join us as we unite in m
 emory and solidarity. Email info@jewishnla.org for more information. 
DTSTART;TZID=America/Chicago:20241006T140000
DTEND;TZID=America/Chicago:20241006T160000
END:VEVENT
END:VCALENDAR
