BEGIN:VCALENDAR
PRODID:-//eluceo/ical//2.0/EN
VERSION:2.0
CALSCALE:GREGORIAN
BEGIN:VEVENT
UID:2aea29248f6ba1b7b67dc5f56eaf2c5f
DTSTAMP:20260419T115446Z
SUMMARY:Olive Press Workshop with Chabad of Louisiana
DESCRIPTION:North Louisiana Jewish Federation\nCalendar\nhttps://jewishnla.
 org/calendar/olive-press\n\nFor children\, teenagers\, and adults:\n\nThe 
 workshop consists of a demonstration of how oil is made using real olives 
 and a press. To complete the demo\, the oil created is poured into a Menor
 ah modeled after the Temple menorah\, and then lit. Throughout the worksho
 p\, the story of Chanukah and the history of the Menorah are presented.\n\
 nTo RSVP and for more information on this exciting Chanukah/Menorah worksh
 op for all ages\, email info@jewishnla.org or call 318-868-1200.
DTSTART;TZID=America/Chicago:20241208T110000
DTEND;TZID=America/Chicago:20241208T120000
END:VEVENT
END:VCALENDAR
