BEGIN:VCALENDAR
PRODID:-//eluceo/ical//2.0/EN
VERSION:2.0
CALSCALE:GREGORIAN
BEGIN:VEVENT
UID:9e0830c01602c3ba5edf09e87da241cf
DTSTAMP:20260420T054136Z
SUMMARY:Orchestrating Change
DESCRIPTION:North Louisiana Jewish Federation\nCalendar\nhttps://jewishnla.
 org/calendar/orchestrating-change\n\nThe award-winning documentary film Or
 chestrating Change\, about the only orchestra created by and for people li
 ving with mental illness and those who support them\, will be at the Robin
 son Film Center the evening of Wednesday\, January 22\, in partnership wit
 h the Shreveport Symphony\, the Community Foundation of North Louisiana\, 
 LSU Health Shreveport's Department of Psychiatry and Behavioral Medine\, a
 nd NAMI (National Alliance on Mental Illness).\n\nPanel discussion to foll
 ow. \n\nThis event is ...
DTSTART;TZID=America/Chicago:20250122T173000
DTEND;TZID=America/Chicago:20250122T193000
END:VEVENT
END:VCALENDAR
