BEGIN:VCALENDAR
PRODID:-//eluceo/ical//2.0/EN
VERSION:2.0
CALSCALE:GREGORIAN
BEGIN:VEVENT
UID:ebf581dcaa20fd27b470bcaf4889995d
DTSTAMP:20260420T081153Z
SUMMARY:Purim Carnival
DESCRIPTION:North Louisiana Jewish Federation\nCalendar\nhttps://jewishnla.
 org/calendar/purim-carnival\n\n* Games * Lunch * Concerts * Facepainting *
  Hamentaschen * Balloon Creations  *Pastry Promenade * Mimosas & Bloody 
 Marys \n\nFeaturing Musician Ellie Flier!\n\nMusical sets at 11:00 (famil
 y\, inside) and 1 PM (all ages\, outside) \n\nCostumes encouraged\, regis
 tration required at this page
DTSTART;TZID=America/Chicago:20240324T110000
DTEND;TZID=America/Chicago:20240324T133000
END:VEVENT
END:VCALENDAR
