BEGIN:VCALENDAR
PRODID:-//eluceo/ical//2.0/EN
VERSION:2.0
CALSCALE:GREGORIAN
BEGIN:VEVENT
UID:e88ff6cbb67349a3376dc943eafdb8d9
DTSTAMP:20260421T195234Z
SUMMARY:Shabbat Dinner for 21-40(ish)
DESCRIPTION:North Louisiana Jewish Federation\nCalendar\nhttps://jewishnla.
 org/calendar/shabbat-dinner-21-40ish\n\nJSBC (Jewish Shreveport-Bossier Ci
 ty) Shabbat Dinner for Jewish and Jewish adjacent* individuals ages 21-40(
 ish) is on the 4th Friday of every other month\, rotating between diffe
 rent hosts or restaurants with the North Louisiana Jewish Federation provi
 ding funding for the meal. \n\n*Jewish adjacent refers to non-Jewish spou
 ses/partners/significant others and immediate relatives of Jewish individu
 als\n\nEmail info@jewishnla.org for more information. 
DTSTART;TZID=America/Chicago:20240524T180000
DTEND;TZID=America/Chicago:20240524T200000
END:VEVENT
END:VCALENDAR
