BEGIN:VCALENDAR
PRODID:-//eluceo/ical//2.0/EN
VERSION:2.0
CALSCALE:GREGORIAN
BEGIN:VEVENT
UID:c3848194ac3735ac8ed19964dccfd0c7
DTSTAMP:20260420T043743Z
SUMMARY:Shabbat Dinner for 21-40(ish)
DESCRIPTION:North Louisiana Jewish Federation\nCalendar\nhttps://jewishnla.
 org/calendar/shabbat-dinner-for-21-40ish\n\nShreveport Shabbat for Jewish
  and Jewish adjacent* individuals ages 21-40(ish) is on the 4th Friday o
 f every month\, rotating between different hosts with the North Louisian
 a Jewish Federation providing funding for the meal. \n\n*Jewish adjacent 
 refers to non-Jewish spouses/partners/significant others and immediate rel
 atives of Jewish individuals\n\nEmail info@jewishnla.org for more informat
 ion. 
DTSTART;TZID=America/Chicago:20240126T180000
DTEND;TZID=America/Chicago:20240126T200000
END:VEVENT
END:VCALENDAR
