BEGIN:VCALENDAR
PRODID:-//eluceo/ical//2.0/EN
VERSION:2.0
CALSCALE:GREGORIAN
BEGIN:VEVENT
UID:4232c3c51811af60028863a3c6af2559
DTSTAMP:20260420T082331Z
SUMMARY:Virtual Event: Hear from Rabbi Yos of Omer\, Israel
DESCRIPTION:North Louisiana Jewish Federation\nCalendar\nhttps://jewishnla.
 org/calendar/virtual-event-hear-from-rabbi-yos-of-omer-israel\n\nan opport
 unity to hear from Rabbi Yosef Baruch Fromer of Omer about his community's
  experiences since October 7th\n\nRegistration required
DTSTART;TZID=America/Chicago:20231224T100000
DTEND;TZID=America/Chicago:20231224T120000
END:VEVENT
END:VCALENDAR
