BEGIN:VCALENDAR
PRODID:-//eluceo/ical//2.0/EN
VERSION:2.0
CALSCALE:GREGORIAN
BEGIN:VEVENT
UID:a82d6f9c87fce911070e24e16b92e21d
DTSTAMP:20260420T225746Z
SUMMARY:Wednesday Evening Mah Jongg
DESCRIPTION:North Louisiana Jewish Federation\nCalendar\nhttps://jewishnla.
 org/calendar/wednesday-evening-mah-jongg\n\nMah jongg brings fun and fello
 wship and is open to all regardless of age\, religion\, synagogue members
 hip\, or Federation support.   \n\nPlease register for the Wednesday eve
 ning game here.
DTSTART;TZID=America/Chicago:20240131T180000
DTEND;TZID=America/Chicago:20240131T200000
END:VEVENT
END:VCALENDAR
